<PAMDataset>
  <GeoTransform>  1.3699999451637268e-01,  3.3333335071802139e-02,  0.0000000000000000e+00,  4.7000000000000000e+01,  0.0000000000000000e+00, -3.3333335071802139e-02</GeoTransform>
  <PAMRasterBand band="1">
    <NoDataValue>-1.00000000000000E+00</NoDataValue>
  </PAMRasterBand>
  <PAMRasterBand band="2">
    <NoDataValue>-1.00000000000000E+00</NoDataValue>
  </PAMRasterBand>
  <PAMRasterBand band="3">
    <NoDataValue>-1.00000000000000E+00</NoDataValue>
  </PAMRasterBand>
</PAMDataset>
