<PAMDataset>
  <GeoTransform> -7.3000000000000000e+01,  8.3333337679505348e-03,  0.0000000000000000e+00, -3.0000000000000000e+01,  0.0000000000000000e+00, -8.3333337679505348e-03</GeoTransform>
  <PAMRasterBand band="1">
    <NoDataValue>-1.00000000000000E+00</NoDataValue>
  </PAMRasterBand>
  <PAMRasterBand band="2">
    <NoDataValue>-1.00000000000000E+00</NoDataValue>
  </PAMRasterBand>
  <PAMRasterBand band="3">
    <NoDataValue>-1.00000000000000E+00</NoDataValue>
  </PAMRasterBand>
</PAMDataset>
