<PAMDataset>
  <GeoTransform>  3.0554498672485352e+01,  1.6666703158989549e-03,  0.0000000000000000e+00,  4.1258701324462891e+01,  0.0000000000000000e+00, -1.6666703158989549e-03</GeoTransform>
  <PAMRasterBand band="1">
    <NoDataValue>-1.00000000000000E+00</NoDataValue>
  </PAMRasterBand>
  <PAMRasterBand band="2">
    <NoDataValue>-1.00000000000000E+00</NoDataValue>
  </PAMRasterBand>
  <PAMRasterBand band="3">
    <NoDataValue>-1.00000000000000E+00</NoDataValue>
  </PAMRasterBand>
</PAMDataset>
