<PAMDataset>
  <GeoTransform>  1.7192999267578125e+02,  8.3333337679505348e-03,  0.0000000000000000e+00, -1.8120000839233398e+01,  0.0000000000000000e+00, -8.3333337679505348e-03</GeoTransform>
  <PAMRasterBand band="1">
    <NoDataValue>-1.00000000000000E+00</NoDataValue>
  </PAMRasterBand>
  <PAMRasterBand band="2">
    <NoDataValue>-1.00000000000000E+00</NoDataValue>
  </PAMRasterBand>
  <PAMRasterBand band="3">
    <NoDataValue>-1.00000000000000E+00</NoDataValue>
  </PAMRasterBand>
</PAMDataset>
