<PAMDataset>
  <GeoTransform> -1.7741729736328125e+02,  5.4166667163372040e-02,  0.0000000000000000e+00,  7.0000000000000000e+01,  0.0000000000000000e+00, -5.4181206971406937e-02</GeoTransform>
  <PAMRasterBand band="1">
    <NoDataValue>-1.00000000000000E+00</NoDataValue>
  </PAMRasterBand>
  <PAMRasterBand band="2">
    <NoDataValue>-1.00000000000000E+00</NoDataValue>
  </PAMRasterBand>
  <PAMRasterBand band="3">
    <NoDataValue>-1.00000000000000E+00</NoDataValue>
  </PAMRasterBand>
</PAMDataset>
