<PAMDataset>
  <GeoTransform>  1.1084999847412109e+02,  4.1666668839752674e-03,  0.0000000000000000e+00, -7.2199997901916504e+00,  0.0000000000000000e+00, -4.1666673496365547e-03</GeoTransform>
  <PAMRasterBand band="1">
    <NoDataValue>-1.00000000000000E+00</NoDataValue>
  </PAMRasterBand>
  <PAMRasterBand band="2">
    <NoDataValue>-1.00000000000000E+00</NoDataValue>
  </PAMRasterBand>
  <PAMRasterBand band="3">
    <NoDataValue>-1.00000000000000E+00</NoDataValue>
  </PAMRasterBand>
</PAMDataset>
