<PAMDataset>
  <GeoTransform> -1.1068000030517578e+02,  4.1666668839752674e-03,  0.0000000000000000e+00, -3.1490001678466797e+01,  0.0000000000000000e+00, -4.1666668839752674e-03</GeoTransform>
  <PAMRasterBand band="1">
    <NoDataValue>-1.00000000000000E+00</NoDataValue>
  </PAMRasterBand>
  <PAMRasterBand band="2">
    <NoDataValue>-1.00000000000000E+00</NoDataValue>
  </PAMRasterBand>
  <PAMRasterBand band="3">
    <NoDataValue>-1.00000000000000E+00</NoDataValue>
  </PAMRasterBand>
</PAMDataset>
