<PAMDataset>
  <GeoTransform>  6.3299999237060547e+01,  6.6698662936687469e-02,  0.0000000000000000e+00,  2.9430000305175781e+01,  0.0000000000000000e+00, -6.6739663481712341e-02</GeoTransform>
  <PAMRasterBand band="1">
    <NoDataValue>-1.00000000000000E+00</NoDataValue>
  </PAMRasterBand>
  <PAMRasterBand band="2">
    <NoDataValue>-1.00000000000000E+00</NoDataValue>
  </PAMRasterBand>
  <PAMRasterBand band="3">
    <NoDataValue>-1.00000000000000E+00</NoDataValue>
  </PAMRasterBand>
</PAMDataset>
