<PAMDataset>
  <GeoTransform> -1.3122999572753906e+02,  6.6682614386081696e-02,  0.0000000000000000e+00,  3.9770000457763672e+01,  0.0000000000000000e+00, -6.6613756120204926e-02</GeoTransform>
  <PAMRasterBand band="1">
    <NoDataValue>-1.00000000000000E+00</NoDataValue>
  </PAMRasterBand>
  <PAMRasterBand band="2">
    <NoDataValue>-1.00000000000000E+00</NoDataValue>
  </PAMRasterBand>
  <PAMRasterBand band="3">
    <NoDataValue>-1.00000000000000E+00</NoDataValue>
  </PAMRasterBand>
</PAMDataset>
