<PAMDataset>
  <GeoTransform>  1.2802999877929688e+02,  6.6666662693023682e-02,  0.0000000000000000e+00,  4.6439998626708984e+01,  0.0000000000000000e+00, -6.6607922315597534e-02</GeoTransform>
  <PAMRasterBand band="1">
    <NoDataValue>-1.00000000000000E+00</NoDataValue>
  </PAMRasterBand>
  <PAMRasterBand band="2">
    <NoDataValue>-1.00000000000000E+00</NoDataValue>
  </PAMRasterBand>
  <PAMRasterBand band="3">
    <NoDataValue>-1.00000000000000E+00</NoDataValue>
  </PAMRasterBand>
</PAMDataset>
