<PAMDataset>
  <GeoTransform> -1.0640000152587891e+02,  6.6654212772846222e-02,  0.0000000000000000e+00,  3.3299999237060547e+01,  0.0000000000000000e+00, -6.6737741231918335e-02</GeoTransform>
  <PAMRasterBand band="1">
    <NoDataValue>-1.00000000000000E+00</NoDataValue>
  </PAMRasterBand>
  <PAMRasterBand band="2">
    <NoDataValue>-1.00000000000000E+00</NoDataValue>
  </PAMRasterBand>
  <PAMRasterBand band="3">
    <NoDataValue>-1.00000000000000E+00</NoDataValue>
  </PAMRasterBand>
</PAMDataset>
