<PAMDataset>
  <GeoTransform> -6.1060001373291016e+01,  6.6656440496444702e-02,  0.0000000000000000e+00,  5.5000000000000000e+01,  0.0000000000000000e+00, -6.6626824438571930e-02</GeoTransform>
  <PAMRasterBand band="1">
    <NoDataValue>-1.00000000000000E+00</NoDataValue>
  </PAMRasterBand>
  <PAMRasterBand band="2">
    <NoDataValue>-1.00000000000000E+00</NoDataValue>
  </PAMRasterBand>
  <PAMRasterBand band="3">
    <NoDataValue>-1.00000000000000E+00</NoDataValue>
  </PAMRasterBand>
</PAMDataset>
