<PAMDataset>
  <GeoTransform> -6.5239997863769531e+01,  6.6648840904235840e-02,  0.0000000000000000e+00,  3.8759998321533203e+01,  0.0000000000000000e+00, -6.6654205322265625e-02</GeoTransform>
  <PAMRasterBand band="1">
    <NoDataValue>-1.00000000000000E+00</NoDataValue>
  </PAMRasterBand>
  <PAMRasterBand band="2">
    <NoDataValue>-1.00000000000000E+00</NoDataValue>
  </PAMRasterBand>
  <PAMRasterBand band="3">
    <NoDataValue>-1.00000000000000E+00</NoDataValue>
  </PAMRasterBand>
</PAMDataset>
