<PAMDataset>
  <GeoTransform>  1.0518000030517578e+02,  6.6647849977016449e-02,  0.0000000000000000e+00,  4.1569999694824219e+01,  0.0000000000000000e+00, -6.6678024828433990e-02</GeoTransform>
  <PAMRasterBand band="1">
    <NoDataValue>-1.00000000000000E+00</NoDataValue>
  </PAMRasterBand>
  <PAMRasterBand band="2">
    <NoDataValue>-1.00000000000000E+00</NoDataValue>
  </PAMRasterBand>
  <PAMRasterBand band="3">
    <NoDataValue>-1.00000000000000E+00</NoDataValue>
  </PAMRasterBand>
</PAMDataset>
