<PAMDataset>
  <GeoTransform> -6.3189998626708984e+01,  6.6674642264842987e-02,  0.0000000000000000e+00,  5.5000000000000000e+01,  0.0000000000000000e+00, -6.6591478884220123e-02</GeoTransform>
  <PAMRasterBand band="1">
    <NoDataValue>-1.00000000000000E+00</NoDataValue>
  </PAMRasterBand>
  <PAMRasterBand band="2">
    <NoDataValue>-1.00000000000000E+00</NoDataValue>
  </PAMRasterBand>
  <PAMRasterBand band="3">
    <NoDataValue>-1.00000000000000E+00</NoDataValue>
  </PAMRasterBand>
</PAMDataset>
