<PAMDataset>
  <GeoTransform>  9.9000000000000000e+01,  6.6711194813251495e-02,  0.0000000000000000e+00,  3.5470001220703125e+01,  0.0000000000000000e+00, -6.6673308610916138e-02</GeoTransform>
  <PAMRasterBand band="1">
    <NoDataValue>-1.00000000000000E+00</NoDataValue>
  </PAMRasterBand>
  <PAMRasterBand band="2">
    <NoDataValue>-1.00000000000000E+00</NoDataValue>
  </PAMRasterBand>
  <PAMRasterBand band="3">
    <NoDataValue>-1.00000000000000E+00</NoDataValue>
  </PAMRasterBand>
</PAMDataset>
