<PAMDataset>
  <GeoTransform> -1.2651999664306641e+02,  6.6692158579826355e-02,  0.0000000000000000e+00,  3.2380001068115234e+01,  0.0000000000000000e+00, -6.6725276410579681e-02</GeoTransform>
  <PAMRasterBand band="1">
    <NoDataValue>-1.00000000000000E+00</NoDataValue>
  </PAMRasterBand>
  <PAMRasterBand band="2">
    <NoDataValue>-1.00000000000000E+00</NoDataValue>
  </PAMRasterBand>
  <PAMRasterBand band="3">
    <NoDataValue>-1.00000000000000E+00</NoDataValue>
  </PAMRasterBand>
</PAMDataset>
