<PAMDataset>
  <GeoTransform> -6.0150001525878906e+01,  6.6666670143604279e-02,  0.0000000000000000e+00,  3.2500000000000000e+01,  0.0000000000000000e+00, -6.6739603877067566e-02</GeoTransform>
  <PAMRasterBand band="1">
    <NoDataValue>-1.00000000000000E+00</NoDataValue>
  </PAMRasterBand>
  <PAMRasterBand band="2">
    <NoDataValue>-1.00000000000000E+00</NoDataValue>
  </PAMRasterBand>
  <PAMRasterBand band="3">
    <NoDataValue>-1.00000000000000E+00</NoDataValue>
  </PAMRasterBand>
</PAMDataset>
