<PAMDataset>
  <GeoTransform>  1.1812999725341797e+02,  6.6718019545078278e-02,  0.0000000000000000e+00,  5.1400001525878906e+01,  0.0000000000000000e+00, -6.6692665219306946e-02</GeoTransform>
  <PAMRasterBand band="1">
    <NoDataValue>-1.00000000000000E+00</NoDataValue>
  </PAMRasterBand>
  <PAMRasterBand band="2">
    <NoDataValue>-1.00000000000000E+00</NoDataValue>
  </PAMRasterBand>
  <PAMRasterBand band="3">
    <NoDataValue>-1.00000000000000E+00</NoDataValue>
  </PAMRasterBand>
</PAMDataset>
