<PAMDataset>
  <GeoTransform> -6.4379997253417969e+01,  6.6639743745326996e-02,  0.0000000000000000e+00,  5.4200000762939453e+01,  0.0000000000000000e+00, -6.6608704626560211e-02</GeoTransform>
  <PAMRasterBand band="1">
    <NoDataValue>-1.00000000000000E+00</NoDataValue>
  </PAMRasterBand>
  <PAMRasterBand band="2">
    <NoDataValue>-1.00000000000000E+00</NoDataValue>
  </PAMRasterBand>
  <PAMRasterBand band="3">
    <NoDataValue>-1.00000000000000E+00</NoDataValue>
  </PAMRasterBand>
</PAMDataset>
