<PAMDataset>
  <GeoTransform>  1.1461000061035156e+02,  6.6640757024288177e-02,  0.0000000000000000e+00,  3.0170000076293945e+01,  0.0000000000000000e+00, -6.6595748066902161e-02</GeoTransform>
  <PAMRasterBand band="1">
    <NoDataValue>-1.00000000000000E+00</NoDataValue>
  </PAMRasterBand>
  <PAMRasterBand band="2">
    <NoDataValue>-1.00000000000000E+00</NoDataValue>
  </PAMRasterBand>
  <PAMRasterBand band="3">
    <NoDataValue>-1.00000000000000E+00</NoDataValue>
  </PAMRasterBand>
</PAMDataset>
