<PAMDataset>
  <GeoTransform>  2.2600000381469727e+01,  6.6660270094871521e-02,  0.0000000000000000e+00, -2.0000000000000000e+00,  0.0000000000000000e+00, -6.6674314439296722e-02</GeoTransform>
  <PAMRasterBand band="1">
    <NoDataValue>-1.00000000000000E+00</NoDataValue>
  </PAMRasterBand>
  <PAMRasterBand band="2">
    <NoDataValue>-1.00000000000000E+00</NoDataValue>
  </PAMRasterBand>
  <PAMRasterBand band="3">
    <NoDataValue>-1.00000000000000E+00</NoDataValue>
  </PAMRasterBand>
</PAMDataset>
