<PAMDataset>
  <GeoTransform>  9.9819999694824219e+01,  6.6642664372920990e-02,  0.0000000000000000e+00,  3.9340000152587891e+01,  0.0000000000000000e+00, -6.6678568720817566e-02</GeoTransform>
  <PAMRasterBand band="1">
    <NoDataValue>-1.00000000000000E+00</NoDataValue>
  </PAMRasterBand>
  <PAMRasterBand band="2">
    <NoDataValue>-1.00000000000000E+00</NoDataValue>
  </PAMRasterBand>
  <PAMRasterBand band="3">
    <NoDataValue>-1.00000000000000E+00</NoDataValue>
  </PAMRasterBand>
</PAMDataset>
