<PAMDataset>
  <GeoTransform>  7.2839996337890625e+01,  6.6686175763607025e-02,  0.0000000000000000e+00,  4.0000000000000000e+01,  0.0000000000000000e+00, -6.6666670143604279e-02</GeoTransform>
  <PAMRasterBand band="1">
    <NoDataValue>-1.00000000000000E+00</NoDataValue>
  </PAMRasterBand>
  <PAMRasterBand band="2">
    <NoDataValue>-1.00000000000000E+00</NoDataValue>
  </PAMRasterBand>
  <PAMRasterBand band="3">
    <NoDataValue>-1.00000000000000E+00</NoDataValue>
  </PAMRasterBand>
</PAMDataset>
