<PAMDataset>
  <GeoTransform> -1.0581999969482422e+02,  6.6683411598205566e-02,  0.0000000000000000e+00,  3.0200000762939453e+01,  0.0000000000000000e+00, -6.6666670143604279e-02</GeoTransform>
  <PAMRasterBand band="1">
    <NoDataValue>-1.00000000000000E+00</NoDataValue>
  </PAMRasterBand>
  <PAMRasterBand band="2">
    <NoDataValue>-1.00000000000000E+00</NoDataValue>
  </PAMRasterBand>
  <PAMRasterBand band="3">
    <NoDataValue>-1.00000000000000E+00</NoDataValue>
  </PAMRasterBand>
</PAMDataset>
