<PAMDataset>
  <GeoTransform> -5.1130001068115234e+01,  6.6711276769638062e-02,  0.0000000000000000e+00,  3.6209999084472656e+01,  0.0000000000000000e+00, -6.6686160862445831e-02</GeoTransform>
  <PAMRasterBand band="1">
    <NoDataValue>-1.00000000000000E+00</NoDataValue>
  </PAMRasterBand>
  <PAMRasterBand band="2">
    <NoDataValue>-1.00000000000000E+00</NoDataValue>
  </PAMRasterBand>
  <PAMRasterBand band="3">
    <NoDataValue>-1.00000000000000E+00</NoDataValue>
  </PAMRasterBand>
</PAMDataset>
