<PAMDataset>
  <GeoTransform> -1.2425000000000000e+02,  6.6685818135738373e-02,  0.0000000000000000e+00,  3.9560001373291016e+01,  0.0000000000000000e+00, -6.6714033484458923e-02</GeoTransform>
  <PAMRasterBand band="1">
    <NoDataValue>-1.00000000000000E+00</NoDataValue>
  </PAMRasterBand>
  <PAMRasterBand band="2">
    <NoDataValue>-1.00000000000000E+00</NoDataValue>
  </PAMRasterBand>
  <PAMRasterBand band="3">
    <NoDataValue>-1.00000000000000E+00</NoDataValue>
  </PAMRasterBand>
</PAMDataset>
