<PAMDataset>
  <GeoTransform> -9.9099998474121094e+01,  6.6706404089927673e-02,  0.0000000000000000e+00,  4.2439998626708984e+01,  0.0000000000000000e+00, -6.6622734069824219e-02</GeoTransform>
  <PAMRasterBand band="1">
    <NoDataValue>-1.00000000000000E+00</NoDataValue>
  </PAMRasterBand>
  <PAMRasterBand band="2">
    <NoDataValue>-1.00000000000000E+00</NoDataValue>
  </PAMRasterBand>
  <PAMRasterBand band="3">
    <NoDataValue>-1.00000000000000E+00</NoDataValue>
  </PAMRasterBand>
</PAMDataset>
