<PAMDataset>
  <GeoTransform>  1.3900999450683594e+02,  6.6730380058288574e-02,  0.0000000000000000e+00,  5.5000000000000000e+01,  0.0000000000000000e+00, -6.6701754927635193e-02</GeoTransform>
  <PAMRasterBand band="1">
    <NoDataValue>-1.00000000000000E+00</NoDataValue>
  </PAMRasterBand>
  <PAMRasterBand band="2">
    <NoDataValue>-1.00000000000000E+00</NoDataValue>
  </PAMRasterBand>
  <PAMRasterBand band="3">
    <NoDataValue>-1.00000000000000E+00</NoDataValue>
  </PAMRasterBand>
</PAMDataset>
