<PAMDataset>
  <GeoTransform> -1.3735000610351562e+02,  6.6632807254791260e-02,  0.0000000000000000e+00,  3.8279998779296875e+01,  0.0000000000000000e+00, -6.6691175103187561e-02</GeoTransform>
  <PAMRasterBand band="1">
    <NoDataValue>-1.00000000000000E+00</NoDataValue>
  </PAMRasterBand>
  <PAMRasterBand band="2">
    <NoDataValue>-1.00000000000000E+00</NoDataValue>
  </PAMRasterBand>
  <PAMRasterBand band="3">
    <NoDataValue>-1.00000000000000E+00</NoDataValue>
  </PAMRasterBand>
</PAMDataset>
