<PAMDataset>
  <GeoTransform>  1.0533000183105469e+02,  6.6692665219306946e-02,  0.0000000000000000e+00,  4.7299999237060547e+01,  0.0000000000000000e+00, -6.6699802875518799e-02</GeoTransform>
  <PAMRasterBand band="1">
    <NoDataValue>-1.00000000000000E+00</NoDataValue>
  </PAMRasterBand>
  <PAMRasterBand band="2">
    <NoDataValue>-1.00000000000000E+00</NoDataValue>
  </PAMRasterBand>
  <PAMRasterBand band="3">
    <NoDataValue>-1.00000000000000E+00</NoDataValue>
  </PAMRasterBand>
</PAMDataset>
