<PAMDataset>
  <GeoTransform> -1.3546000671386719e+02,  6.6648505628108978e-02,  0.0000000000000000e+00,  3.4869998931884766e+01,  0.0000000000000000e+00, -6.6673427820205688e-02</GeoTransform>
  <PAMRasterBand band="1">
    <NoDataValue>-1.00000000000000E+00</NoDataValue>
  </PAMRasterBand>
  <PAMRasterBand band="2">
    <NoDataValue>-1.00000000000000E+00</NoDataValue>
  </PAMRasterBand>
  <PAMRasterBand band="3">
    <NoDataValue>-1.00000000000000E+00</NoDataValue>
  </PAMRasterBand>
</PAMDataset>
