<PAMDataset>
  <GeoTransform>  9.3269996643066406e+01,  6.6684484481811523e-02,  0.0000000000000000e+00,  3.7599998474121094e+01,  0.0000000000000000e+00, -6.6666662693023682e-02</GeoTransform>
  <PAMRasterBand band="1">
    <NoDataValue>-1.00000000000000E+00</NoDataValue>
  </PAMRasterBand>
  <PAMRasterBand band="2">
    <NoDataValue>-1.00000000000000E+00</NoDataValue>
  </PAMRasterBand>
  <PAMRasterBand band="3">
    <NoDataValue>-1.00000000000000E+00</NoDataValue>
  </PAMRasterBand>
</PAMDataset>
