<PAMDataset>
  <GeoTransform> -1.2888999938964844e+02,  6.6645257174968719e-02,  0.0000000000000000e+00,  3.3619998931884766e+01,  0.0000000000000000e+00, -6.6708855330944061e-02</GeoTransform>
  <PAMRasterBand band="1">
    <NoDataValue>-1.00000000000000E+00</NoDataValue>
  </PAMRasterBand>
  <PAMRasterBand band="2">
    <NoDataValue>-1.00000000000000E+00</NoDataValue>
  </PAMRasterBand>
  <PAMRasterBand band="3">
    <NoDataValue>-1.00000000000000E+00</NoDataValue>
  </PAMRasterBand>
</PAMDataset>
