<PAMDataset>
  <GeoTransform> -9.5519996643066406e+01,  6.6659525036811829e-02,  0.0000000000000000e+00,  5.0669998168945312e+01,  0.0000000000000000e+00, -6.6612899303436279e-02</GeoTransform>
  <PAMRasterBand band="1">
    <NoDataValue>-1.00000000000000E+00</NoDataValue>
  </PAMRasterBand>
  <PAMRasterBand band="2">
    <NoDataValue>-1.00000000000000E+00</NoDataValue>
  </PAMRasterBand>
  <PAMRasterBand band="3">
    <NoDataValue>-1.00000000000000E+00</NoDataValue>
  </PAMRasterBand>
</PAMDataset>
