<PAMDataset>
  <GeoTransform> -1.1441999816894531e+02,  6.6620819270610809e-02,  0.0000000000000000e+00,  3.1760000228881836e+01,  0.0000000000000000e+00, -6.6726461052894592e-02</GeoTransform>
  <PAMRasterBand band="1">
    <NoDataValue>-1.00000000000000E+00</NoDataValue>
  </PAMRasterBand>
  <PAMRasterBand band="2">
    <NoDataValue>-1.00000000000000E+00</NoDataValue>
  </PAMRasterBand>
  <PAMRasterBand band="3">
    <NoDataValue>-1.00000000000000E+00</NoDataValue>
  </PAMRasterBand>
</PAMDataset>
