<PAMDataset>
  <GeoTransform>  6.8529998779296875e+01,  6.6649034619331360e-02,  0.0000000000000000e+00,  3.4840000152587891e+01,  0.0000000000000000e+00, -6.6612578928470612e-02</GeoTransform>
  <PAMRasterBand band="1">
    <NoDataValue>-1.00000000000000E+00</NoDataValue>
  </PAMRasterBand>
  <PAMRasterBand band="2">
    <NoDataValue>-1.00000000000000E+00</NoDataValue>
  </PAMRasterBand>
  <PAMRasterBand band="3">
    <NoDataValue>-1.00000000000000E+00</NoDataValue>
  </PAMRasterBand>
</PAMDataset>
