<PAMDataset>
  <GeoTransform>  2.4780000686645508e+01,  6.6612906754016876e-02,  0.0000000000000000e+00, -2.0000000000000000e+00,  0.0000000000000000e+00, -6.6673152148723602e-02</GeoTransform>
  <PAMRasterBand band="1">
    <NoDataValue>-1.00000000000000E+00</NoDataValue>
  </PAMRasterBand>
  <PAMRasterBand band="2">
    <NoDataValue>-1.00000000000000E+00</NoDataValue>
  </PAMRasterBand>
  <PAMRasterBand band="3">
    <NoDataValue>-1.00000000000000E+00</NoDataValue>
  </PAMRasterBand>
</PAMDataset>
