<PAMDataset>
  <GeoTransform>  9.6419998168945312e+01,  6.6604554653167725e-02,  0.0000000000000000e+00, -5.0000000000000000e+00,  0.0000000000000000e+00, -6.6576577723026276e-02</GeoTransform>
  <PAMRasterBand band="1">
    <NoDataValue>-1.00000000000000E+00</NoDataValue>
  </PAMRasterBand>
  <PAMRasterBand band="2">
    <NoDataValue>-1.00000000000000E+00</NoDataValue>
  </PAMRasterBand>
  <PAMRasterBand band="3">
    <NoDataValue>-1.00000000000000E+00</NoDataValue>
  </PAMRasterBand>
</PAMDataset>
