<PAMDataset>
  <GeoTransform> -2.1561999511718750e+02,  6.6619955003261566e-02,  0.0000000000000000e+00, -5.0000000000000000e+00,  0.0000000000000000e+00, -6.6721700131893158e-02</GeoTransform>
  <PAMRasterBand band="1">
    <NoDataValue>-1.00000000000000E+00</NoDataValue>
  </PAMRasterBand>
  <PAMRasterBand band="2">
    <NoDataValue>-1.00000000000000E+00</NoDataValue>
  </PAMRasterBand>
  <PAMRasterBand band="3">
    <NoDataValue>-1.00000000000000E+00</NoDataValue>
  </PAMRasterBand>
</PAMDataset>
