<PAMDataset>
  <GeoTransform>  3.0000000000000000e+01,  6.6617652773857117e-02,  0.0000000000000000e+00, -7.0500001907348633e+00,  0.0000000000000000e+00, -6.6715121269226074e-02</GeoTransform>
  <PAMRasterBand band="1">
    <NoDataValue>-1.00000000000000E+00</NoDataValue>
  </PAMRasterBand>
  <PAMRasterBand band="2">
    <NoDataValue>-1.00000000000000E+00</NoDataValue>
  </PAMRasterBand>
  <PAMRasterBand band="3">
    <NoDataValue>-1.00000000000000E+00</NoDataValue>
  </PAMRasterBand>
</PAMDataset>
