<PAMDataset>
  <GeoTransform>  2.2329999923706055e+01,  6.6625513136386871e-02,  0.0000000000000000e+00, -5.0000000000000000e+00,  0.0000000000000000e+00, -6.6727273166179657e-02</GeoTransform>
  <PAMRasterBand band="1">
    <NoDataValue>-1.00000000000000E+00</NoDataValue>
  </PAMRasterBand>
  <PAMRasterBand band="2">
    <NoDataValue>-1.00000000000000E+00</NoDataValue>
  </PAMRasterBand>
  <PAMRasterBand band="3">
    <NoDataValue>-1.00000000000000E+00</NoDataValue>
  </PAMRasterBand>
</PAMDataset>
