<PAMDataset>
  <GeoTransform>  1.0104000091552734e+02,  6.6657371819019318e-02,  0.0000000000000000e+00,  2.8139999389648438e+01,  0.0000000000000000e+00, -6.6685877740383148e-02</GeoTransform>
  <PAMRasterBand band="1">
    <NoDataValue>-1.00000000000000E+00</NoDataValue>
  </PAMRasterBand>
  <PAMRasterBand band="2">
    <NoDataValue>-1.00000000000000E+00</NoDataValue>
  </PAMRasterBand>
  <PAMRasterBand band="3">
    <NoDataValue>-1.00000000000000E+00</NoDataValue>
  </PAMRasterBand>
</PAMDataset>
