<PAMDataset>
  <GeoTransform> -2.1789999389648438e+02,  6.6678188741207123e-02,  0.0000000000000000e+00,  5.0470001220703125e+01,  0.0000000000000000e+00, -6.6693551838397980e-02</GeoTransform>
  <PAMRasterBand band="1">
    <NoDataValue>-1.00000000000000E+00</NoDataValue>
  </PAMRasterBand>
  <PAMRasterBand band="2">
    <NoDataValue>-1.00000000000000E+00</NoDataValue>
  </PAMRasterBand>
  <PAMRasterBand band="3">
    <NoDataValue>-1.00000000000000E+00</NoDataValue>
  </PAMRasterBand>
</PAMDataset>
