<PAMDataset>
  <GeoTransform>  1.4055000305175781e+02,  6.6706143319606781e-02,  0.0000000000000000e+00,  3.8740001678466797e+01,  0.0000000000000000e+00, -6.6688314080238342e-02</GeoTransform>
  <PAMRasterBand band="1">
    <NoDataValue>-1.00000000000000E+00</NoDataValue>
  </PAMRasterBand>
  <PAMRasterBand band="2">
    <NoDataValue>-1.00000000000000E+00</NoDataValue>
  </PAMRasterBand>
  <PAMRasterBand band="3">
    <NoDataValue>-1.00000000000000E+00</NoDataValue>
  </PAMRasterBand>
</PAMDataset>
