<PAMDataset>
  <GeoTransform>  4.8060001373291016e+01,  6.6675260663032532e-02,  0.0000000000000000e+00,  3.2770000457763672e+01,  0.0000000000000000e+00, -6.6588230431079865e-02</GeoTransform>
  <PAMRasterBand band="1">
    <NoDataValue>-1.00000000000000E+00</NoDataValue>
  </PAMRasterBand>
  <PAMRasterBand band="2">
    <NoDataValue>-1.00000000000000E+00</NoDataValue>
  </PAMRasterBand>
  <PAMRasterBand band="3">
    <NoDataValue>-1.00000000000000E+00</NoDataValue>
  </PAMRasterBand>
</PAMDataset>
