<PAMDataset>
  <GeoTransform> -1.2855999755859375e+02,  6.6682346165180206e-02,  0.0000000000000000e+00,  3.3919998168945312e+01,  0.0000000000000000e+00, -6.6714279353618622e-02</GeoTransform>
  <PAMRasterBand band="1">
    <NoDataValue>-1.00000000000000E+00</NoDataValue>
  </PAMRasterBand>
  <PAMRasterBand band="2">
    <NoDataValue>-1.00000000000000E+00</NoDataValue>
  </PAMRasterBand>
  <PAMRasterBand band="3">
    <NoDataValue>-1.00000000000000E+00</NoDataValue>
  </PAMRasterBand>
</PAMDataset>
