<PAMDataset>
  <GeoTransform>  1.1208000183105469e+02,  6.6678151488304138e-02,  0.0000000000000000e+00,  4.9689998626708984e+01,  0.0000000000000000e+00, -6.6703289747238159e-02</GeoTransform>
  <PAMRasterBand band="1">
    <NoDataValue>-1.00000000000000E+00</NoDataValue>
  </PAMRasterBand>
  <PAMRasterBand band="2">
    <NoDataValue>-1.00000000000000E+00</NoDataValue>
  </PAMRasterBand>
  <PAMRasterBand band="3">
    <NoDataValue>-1.00000000000000E+00</NoDataValue>
  </PAMRasterBand>
</PAMDataset>
