<PAMDataset>
  <GeoTransform> -1.0055000305175781e+02,  6.6611379384994507e-02,  0.0000000000000000e+00,  4.1430000305175781e+01,  0.0000000000000000e+00, -6.6731601953506470e-02</GeoTransform>
  <PAMRasterBand band="1">
    <NoDataValue>-1.00000000000000E+00</NoDataValue>
  </PAMRasterBand>
  <PAMRasterBand band="2">
    <NoDataValue>-1.00000000000000E+00</NoDataValue>
  </PAMRasterBand>
  <PAMRasterBand band="3">
    <NoDataValue>-1.00000000000000E+00</NoDataValue>
  </PAMRasterBand>
</PAMDataset>
