<PAMDataset>
  <GeoTransform> -9.3360000610351562e+01,  6.6653698682785034e-02,  0.0000000000000000e+00,  4.1860000610351562e+01,  0.0000000000000000e+00, -6.6659756004810333e-02</GeoTransform>
  <PAMRasterBand band="1">
    <NoDataValue>-1.00000000000000E+00</NoDataValue>
  </PAMRasterBand>
  <PAMRasterBand band="2">
    <NoDataValue>-1.00000000000000E+00</NoDataValue>
  </PAMRasterBand>
  <PAMRasterBand band="3">
    <NoDataValue>-1.00000000000000E+00</NoDataValue>
  </PAMRasterBand>
</PAMDataset>
